BEGIN:VCALENDAR
VERSION:2.0
PRODID:-//CEEI Valencia//EmprenemJunts//ES
BEGIN:VEVENT
UID:Evento_25033
DTSTAMP:20250611T130231Z
DTSTART:20250710T074500Z
DTEND:20250710T080000Z
SUMMARY:Bienvenida oficial
DESCRIPTION:
LOCATION:Valencia (Valencia)
URL:https://ceeivalencia.emprenemjunts.es/?op=14&n=25033
GEO:39.458630;-0.336337
END:VEVENT
END:VCALENDAR
