BEGIN:VCALENDAR
VERSION:2.0
PRODID:-//CEEI Elche//EmprenemJunts//ES
BEGIN:VEVENT
UID:Evento_25042
DTSTAMP:20250612T070912Z
DTSTART:20250618T080000Z
DTEND:20250618T090000Z
SUMMARY:Webinar Impulsa tu idea de negocio con el Programa Erasmus para Jóvenes Emprendedores
DESCRIPTION:
LOCATION:
URL:https://ceeielche.emprenemjunts.es/?op=14&n=25042
END:VEVENT
END:VCALENDAR
