BEGIN:VCALENDAR
VERSION:2.0
PRODID:-//CEEI Alcoy//EmprenemJunts//ES
BEGIN:VEVENT
UID:Evento_25074
DTSTAMP:20250623T101659Z
DTSTART:20250704T163000Z
DTEND:20250704T173000Z
SUMMARY:Caña Rural en Quatretondeta
DESCRIPTION:
LOCATION:Quatretondeta (Alicante)
URL:https://ceeialcoi.emprenemjunts.es/?op=14&n=25074
GEO:38.724495;-0.315659
END:VEVENT
END:VCALENDAR
