BEGIN:VCALENDAR
VERSION:2.0
PRODID:-//CEEI Alcoy//EmprenemJunts//ES
BEGIN:VEVENT
UID:Evento_25096
DTSTAMP:20250630T065233Z
DTSTART:20250924T070000Z
DTEND:20260121T173000Z
SUMMARY:Curso Transforma digitalmente tu empresa y tu futuro profesional (septiembre)
DESCRIPTION:Curso gratuito para pymes de entre 10 y 250 trabajadores
LOCATION:Alcoi/Alcoy (Alicante)
URL:https://ceeialcoi.emprenemjunts.es/?op=14&n=25096
GEO:38.697281;-0.476990
END:VEVENT
END:VCALENDAR
