BEGIN:VCALENDAR
VERSION:2.0
PRODID:-//CEEI Elche//EmprenemJunts//ES
BEGIN:VEVENT
UID:Evento_25124
DTSTAMP:20250702T105746Z
DTSTART:20250716T073000Z
DTEND:20250716T110000Z
SUMMARY:Jornada: Tecnologías emergentes para impulsar la economía circular en las empresas
DESCRIPTION:
LOCATION:Elda (Alicante)
URL:https://ceeielche.emprenemjunts.es/?op=14&n=25124
GEO:38.463562;-0.820872
END:VEVENT
END:VCALENDAR
