BEGIN:VCALENDAR
VERSION:2.0
PRODID:-//CEEI Elche//EmprenemJunts//ES
BEGIN:VEVENT
UID:Evento_25191
DTSTAMP:20250730T091109Z
DTSTART:20250923T143000Z
DTEND:20251014T173000Z
SUMMARY:Curso formativo: talleres de IA práctica para impulsar tu crecimiento
DESCRIPTION:Programa gratuito dirigido a emprendedores, start-ups, spin-offs y pymes
LOCATION:Elx/Elche (Alicante)
URL:https://ceeielche.emprenemjunts.es/?op=14&n=25191
GEO:38.275150;-0.682433
END:VEVENT
END:VCALENDAR
