BEGIN:VCALENDAR
VERSION:2.0
PRODID:-//CEEI Elche//EmprenemJunts//ES
BEGIN:VEVENT
UID:Evento_25253
DTSTAMP:20250812T075538Z
DTSTART:20251002T070000Z
DTEND:20251003T111500Z
SUMMARY:II Congreso Internacional de diseño
DESCRIPTION:
LOCATION:Alacant/Alicante (Alicante)
URL:https://ceeielche.emprenemjunts.es/?op=14&n=25253
END:VEVENT
END:VCALENDAR
