BEGIN:VCALENDAR
VERSION:2.0
PRODID:-//CEEI Elche//EmprenemJunts//ES
BEGIN:VEVENT
UID:Evento_25290
DTSTAMP:20250905T062709Z
DTSTART:20250919T073000Z
DTEND:20250919T083000Z
SUMMARY:Objetivos que se cumplen: Alineación estratégica de personas y equipos con la visión de la empresa
DESCRIPTION:
LOCATION:Alacant/Alicante (Alicante)
URL:https://ceeielche.emprenemjunts.es/?op=14&n=25290
GEO:38.344006;-0.482674
END:VEVENT
END:VCALENDAR
