BEGIN:VCALENDAR
VERSION:2.0
PRODID:-//CEEI Elche//EmprenemJunts//ES
BEGIN:VEVENT
UID:Evento_25299
DTSTAMP:20250905T064842Z
DTSTART:20251030T113000Z
DTEND:20251030T114500Z
SUMMARY:Clausura institucional
DESCRIPTION:
LOCATION:Alacant/Alicante (Alicante)
URL:https://ceeielche.emprenemjunts.es/?op=14&n=25299
GEO:38.345753;-0.479958
END:VEVENT
END:VCALENDAR
