BEGIN:VCALENDAR
VERSION:2.0
PRODID:-//CEEI Elche//EmprenemJunts//ES
BEGIN:VEVENT
UID:Evento_25304
DTSTAMP:20250905T100801Z
DTSTART:20251015T161500Z
DTEND:20251015T183000Z
SUMMARY:Marina Alta en Clave de Futuro: Tendencias Gastronómicas y Náuticas
DESCRIPTION:Encuentro Sommos Connecta 2025
LOCATION:Calp/Calpe (Alicante)
URL:https://ceeielche.emprenemjunts.es/?op=14&n=25304
GEO:38.659340;0.060684
END:VEVENT
END:VCALENDAR
