BEGIN:VCALENDAR
VERSION:2.0
PRODID:-//CEEI Castellón//EmprenemJunts//ES
BEGIN:VEVENT
UID:Evento_25305
DTSTAMP:20250905T131002Z
DTSTART:20250911T093000Z
DTEND:20250911T113000Z
SUMMARY:Masterclass: Â“Activa tu Pyme con Inteligencia Artificial\"
DESCRIPTION:Puedes seguirla en streaming
LOCATION:BenicarlÃ³ (CastellÃ³n)
URL:https://ceeicastellon.emprenemjunts.es/?op=14&n=25305
END:VEVENT
END:VCALENDAR
