BEGIN:VCALENDAR
VERSION:2.0
PRODID:-//CEEI Castellón//EmprenemJunts//ES
BEGIN:VEVENT
UID:Evento_25497
DTSTAMP:20251008T095909Z
DTSTART:20251031T091500Z
DTEND:20251031T101500Z
SUMMARY:Mesa \"CuÃ¡ndo una startup me hace bailar las neuronas\"
DESCRIPTION:La inversiÃ³n como un flechazo cerebral. QuÃ© mueve a un inversor cuando una startup le vibra.
LOCATION:Orpesa/Oropesa del Mar (CastellÃ³n)
URL:https://ceeicastellon.emprenemjunts.es/?op=14&n=25497
GEO:40.058525;0.099526
END:VEVENT
END:VCALENDAR
