BEGIN:VCALENDAR
VERSION:2.0
PRODID:-//CEEI Elche//EmprenemJunts//ES
BEGIN:VEVENT
UID:Evento_25590
DTSTAMP:20251020T071350Z
DTSTART:20251022T170000Z
DTEND:20251022T183000Z
SUMMARY:Los Premios Alfil 2025 tendrán lugar en el Palacio de Altamira de Elche el próximo 22 de octubre: Un futuro muy presente
DESCRIPTION:
LOCATION:Elx/Elche (Alicante)
URL:https://ceeielche.emprenemjunts.es/?op=14&n=25590
GEO:38.268181;-0.698701
END:VEVENT
END:VCALENDAR
