BEGIN:VCALENDAR
VERSION:2.0
PRODID:-//CEEI Elche//EmprenemJunts//ES
BEGIN:VEVENT
UID:Evento_25624
DTSTAMP:20251029T113021Z
DTSTART:20251104T083000Z
DTEND:20251104T113000Z
SUMMARY:Economía Circular y Análisis del Ciclo de Vida: El nuevo lenguaje de la Competitividad
DESCRIPTION:
LOCATION:Alacant/Alicante (Alicante)
URL:https://ceeielche.emprenemjunts.es/?op=14&n=25624
GEO:38.339062;-0.487295
END:VEVENT
END:VCALENDAR
