BEGIN:VCALENDAR
VERSION:2.0
PRODID:-//CEEI Alcoy//EmprenemJunts//ES
BEGIN:VEVENT
UID:Evento_25659
DTSTAMP:20251105T082556Z
DTSTART:20251112T153000Z
DTEND:20251112T173000Z
SUMMARY:Foro Empleo Verde 2025
DESCRIPTION:El 12 de noviembre en Alcoy
LOCATION:Alcoi/Alcoy (Alicante)
URL:https://ceeialcoi.emprenemjunts.es/?op=14&n=25659
GEO:38.688267;-0.476287
END:VEVENT
END:VCALENDAR
