BEGIN:VCALENDAR
VERSION:2.0
PRODID:-//CEEI Elche//EmprenemJunts//ES
BEGIN:VEVENT
UID:Evento_25678
DTSTAMP:20251107T105312Z
DTSTART:20251120T080000Z
DTEND:20251120T103000Z
SUMMARY:Jornada informativa: La Ley Antifraude y el Control Horario
DESCRIPTION:
LOCATION:Dénia (Alicante)
URL:https://ceeielche.emprenemjunts.es/?op=14&n=25678
GEO:38.830544;0.106404
END:VEVENT
END:VCALENDAR
