BEGIN:VCALENDAR
VERSION:2.0
PRODID:-//CEEI Castellón//EmprenemJunts//ES
BEGIN:VEVENT
UID:Evento_25743
DTSTAMP:20251118T125128Z
DTSTART:20251211T083000Z
DTEND:20251211T123000Z
SUMMARY:Focus Pyme: \"Impulso plateado, territorio vivo. Silver economy\"
DESCRIPTION:Evento Focus Pyme y Emprendimiento en la Zona Sur de CastellÃ³n.
LOCATION:Geldo (CastellÃ³n)
URL:https://ceeicastellon.emprenemjunts.es/?op=14&n=25743
GEO:40.022598;-0.725800
END:VEVENT
END:VCALENDAR
