BEGIN:VCALENDAR
VERSION:2.0
PRODID:-//CEEI Valencia//EmprenemJunts//ES
BEGIN:VEVENT
UID:Evento_25767
DTSTAMP:20251124T094535Z
DTSTART:20251127T083000Z
DTEND:20251127T093000Z
SUMMARY:Jornada Liderazgo 3.0: Persona, tecnología y resultados
DESCRIPTION:
LOCATION:Alzira (Valencia)
URL:https://ceeivalencia.emprenemjunts.es/?op=14&n=25767
GEO:39.144489;-0.404416
END:VEVENT
END:VCALENDAR
