BEGIN:VCALENDAR
VERSION:2.0
PRODID:-//CEEI Elche//EmprenemJunts//ES
BEGIN:VEVENT
UID:Evento_25769
DTSTAMP:20251124T104844Z
DTSTART:20251126T080000Z
DTEND:20251126T100000Z
SUMMARY:26 NOV Desayuno Masterclass: El liderazgo como eje estratégico para impulsar la competitividad
DESCRIPTION:
LOCATION:Dénia (Alicante)
URL:https://ceeielche.emprenemjunts.es/?op=14&n=25769
GEO:38.830544;0.106404
END:VEVENT
END:VCALENDAR
