BEGIN:VCALENDAR
VERSION:2.0
PRODID:-//CEEI Elche//EmprenemJunts//ES
BEGIN:VEVENT
UID:Evento_25839
DTSTAMP:20251205T083404Z
DTSTART:20251212T090000Z
DTEND:20251212T110000Z
SUMMARY:Clausura de la 8ª Edición de Operación Consolida 2025
DESCRIPTION:
LOCATION:Alacant/Alicante (Alicante)
URL:https://ceeielche.emprenemjunts.es/?op=14&n=25839
GEO:38.338024;-0.493221
END:VEVENT
END:VCALENDAR
