BEGIN:VCALENDAR
VERSION:2.0
PRODID:-//CEEI Castellón//EmprenemJunts//ES
BEGIN:VEVENT
UID:Evento_25884
DTSTAMP:20251219T112633Z
DTSTART:20260224T090000Z
DTEND:20260224T123000Z
SUMMARY:Tech Leaders | Arquitecturas Cloud y pipelines de datos: del Lakehouse al informe (Microsoft Fabric + Antigravity) (Online)
DESCRIPTION:Una sesiÃ³n teÃ³rica y un caso de uso real de empresa que ilustra beneficios y retorno de la inversiÃ³n.
LOCATION:
URL:https://ceeicastellon.emprenemjunts.es/?op=14&n=25884
END:VEVENT
END:VCALENDAR
