BEGIN:VCALENDAR
VERSION:2.0
PRODID:-//CEEI Elche//EmprenemJunts//ES
BEGIN:VEVENT
UID:Evento_25896
DTSTAMP:20251223T091344Z
DTSTART:20260128T083000Z
DTEND:20260128T113000Z
SUMMARY:Convocatorias de ayudas públicas 2026: Financiación estratégica para emprendedores
DESCRIPTION:Conoce las ayudas y apoyos disponibles para pymes y emprendedores para el año 2026
LOCATION:Elx/Elche (Alicante)
URL:https://ceeielche.emprenemjunts.es/?op=14&n=25896
END:VEVENT
END:VCALENDAR
