BEGIN:VCALENDAR
VERSION:2.0
PRODID:-//CEEI Elche//EmprenemJunts//ES
BEGIN:VEVENT
UID:Evento_25963
DTSTAMP:20260115T105628Z
DTSTART:20260120T083000Z
DTEND:20260217T123000Z
SUMMARY:Empresarias del siglo XXI: corazón y estrategia
DESCRIPTION:Escuela de talento femenino
LOCATION:Alacant/Alicante (Alicante)
URL:https://ceeielche.emprenemjunts.es/?op=14&n=25963
GEO:38.343121;-0.487077
END:VEVENT
END:VCALENDAR
