BEGIN:VCALENDAR
VERSION:2.0
PRODID:-//CEEI Elche//EmprenemJunts//ES
BEGIN:VEVENT
UID:Evento_26125
DTSTAMP:20260202T102947Z
DTSTART:20260226T150000Z
DTEND:20260226T160000Z
SUMMARY:Gestiona tus redes sociales con Inteligencia Artificial
DESCRIPTION:
LOCATION:Villena (Alicante)
URL:https://ceeielche.emprenemjunts.es/?op=14&n=26125
END:VEVENT
END:VCALENDAR
