BEGIN:VCALENDAR
VERSION:2.0
PRODID:-//CEEI Valencia//EmprenemJunts//ES
BEGIN:VEVENT
UID:Evento_26127
DTSTAMP:20260202T113455Z
DTSTART:20260203T090000Z
DTEND:20260224T120000Z
SUMMARY:Taller itinerario de emprendimiento en lEliana
DESCRIPTION:
LOCATION:L\'Eliana (Valencia)
URL:https://ceeivalencia.emprenemjunts.es/?op=14&n=26127
GEO:39.566086;-0.534187
END:VEVENT
END:VCALENDAR
