BEGIN:VCALENDAR
VERSION:2.0
PRODID:-//CEEI Valencia//EmprenemJunts//ES
BEGIN:VEVENT
UID:Evento_26184
DTSTAMP:20260210T075329Z
DTSTART:20260217T150000Z
DTEND:20260317T170000Z
SUMMARY:Itinerario de Emprendimiento Juvenil CV 2026
DESCRIPTION:Curso online del 17 de febrero al 17 de marzo de 2026
LOCATION:
URL:https://ceeivalencia.emprenemjunts.es/?op=14&n=26184
END:VEVENT
END:VCALENDAR
