BEGIN:VCALENDAR
VERSION:2.0
PRODID:-//CEEI Elche//EmprenemJunts//ES
BEGIN:VEVENT
UID:Evento_26246
DTSTAMP:20260219T140126Z
DTSTART:20260304T083000Z
DTEND:20260304T093000Z
SUMMARY:La Inteligencia Artificial que tu empresa puede usar ya
DESCRIPTION:
LOCATION:Elx/Elche (Alicante)
URL:https://ceeielche.emprenemjunts.es/?op=14&n=26246
GEO:38.294025;-0.616407
END:VEVENT
END:VCALENDAR
