BEGIN:VCALENDAR
VERSION:2.0
PRODID:-//CEEI Valencia//EmprenemJunts//ES
BEGIN:VEVENT
UID:Evento_26291
DTSTAMP:20260227T095344Z
DTSTART:20260310T100000Z
DTEND:20260310T110000Z
SUMMARY:Winter Demo Day 2026: startups de alto potencial conectan con inversores y corporates
DESCRIPTION:Startup Valencia y Unicorn Factory Lisboa reúnen a 10 startups de alto potencial en un Demo Day virtual con premios para VDS y Web Summit
LOCATION:
URL:https://ceeivalencia.emprenemjunts.es/?op=14&n=26291
END:VEVENT
END:VCALENDAR
