BEGIN:VCALENDAR
VERSION:2.0
PRODID:-//CEEI Elche//EmprenemJunts//ES
BEGIN:VEVENT
UID:Evento_26344
DTSTAMP:20260312T100604Z
DTSTART:20260324T143000Z
DTEND:20260324T163000Z
SUMMARY:Técnicas de guerrilla para el análisis de mercado
DESCRIPTION:Aprende las técnicas y herramientas aplicadas a la supervivencia o crecimiento de una idea emprendedora
LOCATION:Aspe (Alicante)
URL:https://ceeielche.emprenemjunts.es/?op=14&n=26344
GEO:38.345173;-0.769020
END:VEVENT
END:VCALENDAR
