BEGIN:VCALENDAR
VERSION:2.0
PRODID:-//CEEI Elche//EmprenemJunts//ES
BEGIN:VEVENT
UID:Evento_26351
DTSTAMP:20260316T090746Z
DTSTART:20260326T170000Z
DTEND:20260326T180000Z
SUMMARY:Innovación como estrategia financiera: como combinar financiación pública y deducciones fiscales
DESCRIPTION:
LOCATION:
URL:https://ceeielche.emprenemjunts.es/?op=14&n=26351
END:VEVENT
END:VCALENDAR
