BEGIN:VCALENDAR
VERSION:2.0
PRODID:-//CEEI Castell髇//EmprenemJunts//ES
BEGIN:VEVENT
UID:Evento_26358
DTSTAMP:20260317T080327Z
DTSTART:20260316T230000Z
DTEND:20260317T000000Z
SUMMARY:Ciclo OAP CEEI Castell贸n: Marketing, ventas y ciberseguridad para pymes
DESCRIPTION:7 sesiones pr谩cticas para mejorar visibilidad, conversi贸n y ventas digitales (sin descuidar la seguridad)
LOCATION:Castell贸 de la Plana/Castell贸n de la Plana (Castell贸n)
URL:https://ceeicastellon.emprenemjunts.es/?op=14&n=26358
END:VEVENT
END:VCALENDAR
