BEGIN:VCALENDAR
VERSION:2.0
PRODID:-//CEEI Alcoy//EmprenemJunts//ES
BEGIN:VEVENT
UID:Evento_26391
DTSTAMP:20260320T091953Z
DTSTART:20260324T113000Z
DTEND:20260329T093000Z
SUMMARY:II Semana del Diseño y la Innovación en Alcoy
DESCRIPTION:Del 24 al 29 de marzo en Alcoy
LOCATION:Alcoi/Alcoy (Alicante)
URL:https://ceeialcoi.emprenemjunts.es/?op=14&n=26391
GEO:38.742123;-0.487361
END:VEVENT
END:VCALENDAR
