BEGIN:VCALENDAR
VERSION:2.0
PRODID:-//Europa//EmprenemJunts//ES
BEGIN:VEVENT
UID:Evento_26577
DTSTAMP:20260416T105510Z
DTSTART:20260427T083000Z
DTEND:20260427T110000Z
SUMMARY:RuralSilverHubs: Webinar transnacional sobre Silver Economy en zonas rurales
DESCRIPTION:Encuentro online para analizar retos, buenas prácticas y soluciones en la Silver Economy en el espacio SUDOE | 27 de abril de 2026
LOCATION:-
URL:https://europa.emprenemjunts.es/?op=14&n=26577
END:VEVENT
END:VCALENDAR
