BEGIN:VCALENDAR
VERSION:2.0
PRODID:-//CEEI Elche//EmprenemJunts//ES
BEGIN:VEVENT
UID:Evento_26583
DTSTAMP:20260417T072438Z
DTSTART:20260507T070000Z
DTEND:20260507T090000Z
SUMMARY:Villena acoge un encuentro empresarial para aplicar la tecnología con resultados reales
DESCRIPTION:Jornada dirigida a empresas de Villena y comarca interesadas en ganar eficiencia, reforzar su seguridad y aprovechar mejor sus datos.
LOCATION:Villena (Alicante)
URL:https://ceeielche.emprenemjunts.es/?op=14&n=26583
GEO:38.640472;-0.881291
END:VEVENT
END:VCALENDAR
