BEGIN:VCALENDAR
VERSION:2.0
PRODID:-//CEEI Valencia//EmprenemJunts//ES
BEGIN:VEVENT
UID:Evento_26585
DTSTAMP:20260417T113647Z
DTSTART:20260421T103000Z
DTEND:20260421T123000Z
SUMMARY:Jornada UPV Sandbox Urbano de València. La ciudad como espacio de experimentación para la innovación
DESCRIPTION:El 21 de abril en Valencia
LOCATION:Valencia (Valencia)
URL:https://ceeivalencia.emprenemjunts.es/?op=14&n=26585
GEO:39.486626;-0.334041
END:VEVENT
END:VCALENDAR
