BEGIN:VCALENDAR
VERSION:2.0
PRODID:-//CEEI Elche//EmprenemJunts//ES
BEGIN:VEVENT
UID:Evento_26589
DTSTAMP:20260420T093827Z
DTSTART:20260423T090000Z
DTEND:20260423T110000Z
SUMMARY:Taller Salud Financiera
DESCRIPTION:Organizado por Lab_Nucia y la Asociación de Mujeres Emprendedoras y Profesionales de la Comunidad Valenciana (AME)
LOCATION:La Nucia (Alicante)
URL:https://ceeielche.emprenemjunts.es/?op=14&n=26589
GEO:38.603531;-0.130166
END:VEVENT
END:VCALENDAR
