BEGIN:VCALENDAR
VERSION:2.0
PRODID:-//CEEI Castellón//EmprenemJunts//ES
BEGIN:VEVENT
UID:Evento_26623
DTSTAMP:20260423T114738Z
DTSTART:20260428T083000Z
DTEND:20260428T090000Z
SUMMARY:Ponencia 1
DESCRIPTION:
LOCATION:CastellÃ³ de la Plana/CastellÃ³n de la Plana (CastellÃ³n)
URL:https://ceeicastellon.emprenemjunts.es/?op=14&n=26623
END:VEVENT
END:VCALENDAR
