BEGIN:VCALENDAR
VERSION:2.0
PRODID:-//CEEI Castellón//EmprenemJunts//ES
BEGIN:VEVENT
UID:Evento_26626
DTSTAMP:20260423T135718Z
DTSTART:20260428T100000Z
DTEND:20260428T103000Z
SUMMARY:Mesa redonda
DESCRIPTION:
LOCATION:CastellÃ³ de la Plana/CastellÃ³n de la Plana (CastellÃ³n)
URL:https://ceeicastellon.emprenemjunts.es/?op=14&n=26626
END:VEVENT
END:VCALENDAR
