BEGIN:VCALENDAR
VERSION:2.0
PRODID:-//CEEI Castell髇//EmprenemJunts//ES
BEGIN:VEVENT
UID:Evento_8798
DTSTAMP:20150326T144350Z
DTSTART:20150418T071500Z
DTEND:20150418T111500Z
SUMMARY:Networking \"Oportunidades REALES en el Extranjero\" First - Acci贸nate
DESCRIPTION:Para J贸venes, estudiantes, emprendedores con idea de localizar empleo, formaci贸n o promoci贸n profesional en el Extrajero.
LOCATION:VINAR脪S (Castell贸n)
URL:https://ceeicastellon.emprenemjunts.es/?op=14&n=8798
END:VEVENT
END:VCALENDAR
